BEGIN:VCALENDAR
PRODID:iCalendar-Ruby
VERSION:2.0
X-WR-TIMEZONE:America/Los_Angeles
BEGIN:VTIMEZONE
TZID:America/Los_Angeles
X-LIC-LOCATION:America/Los_Angeles
BEGIN:STANDARD
DTSTART:20241103T020000
RRULE:FREQ=YEARLY;BYDAY=1SU;BYMONTH=11
TZNAME:PST
TZOFFSETFROM:-0700
TZOFFSETTO:-0800
END:STANDARD
BEGIN:DAYLIGHT
DTSTART:20250309T020000
RRULE:FREQ=YEARLY;BYDAY=2SU;BYMONTH=3
TZNAME:PDT
TZOFFSETFROM:-0800
TZOFFSETTO:-0700
END:DAYLIGHT
END:VTIMEZONE
BEGIN:VEVENT
DESCRIPTION: https://www.salmonarm.ca/calendar.aspx?EID=2124
DTEND;TZID=America/Los_Angeles:20250124T100000
DTSTAMP;TZID=America/Los_Angeles:20250122T110321
DTSTART;TZID=America/Los_Angeles:20250124T080000
LAST-MODIFIED;TZID=America/Los_Angeles:20250122T110321
LOCATION:City Hall - 500 2 Avenue NE  Salmon Arm BC V1E 4N2
SEQUENCE:0
SUMMARY:Social Impact Advisory Committee Meeting
UID:2124
URL:/common/modules/iCalendar/iCalendar.aspx?feed=calendar&eventID=2124
END:VEVENT
END:VCALENDAR
